BEGIN:VCALENDAR
PRODID:-//Pixl8//Eventfolio//EN
VERSION:2.0
X-WR-TIMEZONE:Europe/London
CALSCALE:GREGORIAN
METHOD:PUBLISH
CLASS:PUBLIC
BEGIN:VTIMEZONE
TZID:Europe/London
LAST-MODIFIED:20260306T231828Z
TZURL:https://www.tzurl.org/zoneinfo-outlook/Europe/London
X-LIC-LOCATION:Europe/London
BEGIN:DAYLIGHT
TZNAME:BST
TZOFFSETFROM:+0000
TZOFFSETTO:+0100
DTSTART:19700329T010000
RRULE:FREQ=YEARLY;BYMONTH=3;BYDAY=-1SU
END:DAYLIGHT
BEGIN:STANDARD
TZNAME:GMT
TZOFFSETFROM:+0100
TZOFFSETTO:+0000
DTSTART:19701025T020000
RRULE:FREQ=YEARLY;BYMONTH=10;BYDAY=-1SU
END:STANDARD
END:VTIMEZONE
BEGIN:VEVENT
DTSTART;TZID=Europe/London:20260429T130000
DTEND;TZID=Europe/London:20260429T140000
DTSTAMP:20260424T152042Z
UID:{BB434498-B4C6-4024-A468D9925DD86C47}
LOCATION:
SUMMARY:Carbon Literacy: Empowering your organisation for Net Zero
DESCRIPTION:Event details: https://www.ukpetfood.org/events-and-training/member-external-webinars-events/ems-events-calendar/carbon-literacy-empowering-your-organisation-for-net-zero.html
PRIORITY:1
END:VEVENT
END:VCALENDAR