BEGIN:VCALENDAR
PRODID:-//Pixl8//Eventfolio//EN
VERSION:2.0
X-WR-TIMEZONE:Europe/London
CALSCALE:GREGORIAN
METHOD:PUBLISH
CLASS:PUBLIC
BEGIN:VTIMEZONE
TZID:Europe/London
LAST-MODIFIED:20260306T231828Z
TZURL:https://www.tzurl.org/zoneinfo-outlook/Europe/London
X-LIC-LOCATION:Europe/London
BEGIN:DAYLIGHT
TZNAME:BST
TZOFFSETFROM:+0000
TZOFFSETTO:+0100
DTSTART:19700329T010000
RRULE:FREQ=YEARLY;BYMONTH=3;BYDAY=-1SU
END:DAYLIGHT
BEGIN:STANDARD
TZNAME:GMT
TZOFFSETFROM:+0100
TZOFFSETTO:+0000
DTSTART:19701025T020000
RRULE:FREQ=YEARLY;BYMONTH=10;BYDAY=-1SU
END:STANDARD
END:VTIMEZONE
BEGIN:VEVENT
DTSTART;TZID=Europe/London;VALUE=DATE:20251006
DTEND;TZID=Europe/London;VALUE=DATE:20270101
DTSTAMP:20260425T041950Z
UID:{052D89EA-8217-4B03-9C3CB026AB0EBFDD}
LOCATION:Online
SUMMARY:Pet Food and Nutrition Course for Veterinary Professionals
DESCRIPTION:On Demand - Practical Nutritional Education You Can Trust!\n
 \n
 Event details: https://www.ukpetfood.org/events-and-training/member-external-webinars-events/ems-events-calendar/pet-food-and-nutrition-course-for-veterinary-professionals.html
PRIORITY:1
END:VEVENT
END:VCALENDAR