BEGIN:VCALENDAR
PRODID:-//Pixl8//Eventfolio//EN
VERSION:2.0
X-WR-TIMEZONE:Europe/London
CALSCALE:GREGORIAN
METHOD:PUBLISH
CLASS:PUBLIC
BEGIN:VTIMEZONE
TZID:Europe/London
LAST-MODIFIED:20260306T231828Z
TZURL:https://www.tzurl.org/zoneinfo-outlook/Europe/London
X-LIC-LOCATION:Europe/London
BEGIN:DAYLIGHT
TZNAME:BST
TZOFFSETFROM:+0000
TZOFFSETTO:+0100
DTSTART:19700329T010000
RRULE:FREQ=YEARLY;BYMONTH=3;BYDAY=-1SU
END:DAYLIGHT
BEGIN:STANDARD
TZNAME:GMT
TZOFFSETFROM:+0100
TZOFFSETTO:+0000
DTSTART:19701025T020000
RRULE:FREQ=YEARLY;BYMONTH=10;BYDAY=-1SU
END:STANDARD
END:VTIMEZONE
BEGIN:VEVENT
DTSTART;TZID=Europe/London:20261126T100000
DTEND;TZID=Europe/London:20261126T150000
DTSTAMP:20260424T165350Z
UID:{C60E69D3-7431-4CAC-85F0AD8BD9FBF2CF}
LOCATION:Stationers Hall Ave Maria Lane\, London EC4M 7DD
SUMMARY:Save the date - Annual Convention 2026
DESCRIPTION:Event details: https://www.ukpetfood.org/events-and-training/member-external-webinars-events/ems-events-calendar/save-the-date-annual-convention-2026.html
PRIORITY:1
END:VEVENT
END:VCALENDAR